BEGIN:VCALENDAR
VERSION:2.0
PRODID:-//Club Qualité 35 - ECPv6.15.20//NONSGML v1.0//EN
CALSCALE:GREGORIAN
METHOD:PUBLISH
X-ORIGINAL-URL:https://www.clubqualite35.fr
X-WR-CALDESC:Évènements pour Club Qualité 35
REFRESH-INTERVAL;VALUE=DURATION:PT1H
X-Robots-Tag:noindex
X-PUBLISHED-TTL:PT1H
BEGIN:VTIMEZONE
TZID:Europe/Paris
BEGIN:DAYLIGHT
TZOFFSETFROM:+0100
TZOFFSETTO:+0200
TZNAME:CEST
DTSTART:20210328T010000
END:DAYLIGHT
BEGIN:STANDARD
TZOFFSETFROM:+0200
TZOFFSETTO:+0100
TZNAME:CET
DTSTART:20211031T010000
END:STANDARD
BEGIN:DAYLIGHT
TZOFFSETFROM:+0100
TZOFFSETTO:+0200
TZNAME:CEST
DTSTART:20220327T010000
END:DAYLIGHT
BEGIN:STANDARD
TZOFFSETFROM:+0200
TZOFFSETTO:+0100
TZNAME:CET
DTSTART:20221030T010000
END:STANDARD
BEGIN:DAYLIGHT
TZOFFSETFROM:+0100
TZOFFSETTO:+0200
TZNAME:CEST
DTSTART:20230326T010000
END:DAYLIGHT
BEGIN:STANDARD
TZOFFSETFROM:+0200
TZOFFSETTO:+0100
TZNAME:CET
DTSTART:20231029T010000
END:STANDARD
END:VTIMEZONE
BEGIN:VEVENT
DTSTART;TZID=Europe/Paris:20220304T143000
DTEND;TZID=Europe/Paris:20220304T160000
DTSTAMP:20260425T033156
CREATED:20220203T125517Z
LAST-MODIFIED:20220221T130353Z
UID:4604-1646404200-1646409600@www.clubqualite35.fr
SUMMARY:Visite de chantier - réhabilitation des tours de Maurepas
DESCRIPTION:
URL:https://www.clubqualite35.fr/evenement/visite-de-chantier-rehabilitation-des-tours-de-maurepas/
LOCATION:5 boulevard Emmanuel Mounier\, Rennes\, 35000
CATEGORIES:visites
END:VEVENT
BEGIN:VEVENT
DTSTART;TZID=Europe/Paris:20220325T143000
DTEND;TZID=Europe/Paris:20220325T163000
DTSTAMP:20260425T033156
CREATED:20220228T143222Z
LAST-MODIFIED:20220228T143222Z
UID:4622-1648218600-1648225800@www.clubqualite35.fr
SUMMARY:Visite des stations de métro Ste Anne et St Germain
DESCRIPTION:
URL:https://www.clubqualite35.fr/evenement/visite-des-stations-de-metro-ste-anne-et-st-germain/
LOCATION:station de métro Ste Anne\, place Ste Anne\, Rennes\, 35000
CATEGORIES:visites
END:VEVENT
END:VCALENDAR