BEGIN:VCALENDAR
VERSION:2.0
PRODID:-//Club Qualité 35 - ECPv6.15.20//NONSGML v1.0//EN
CALSCALE:GREGORIAN
METHOD:PUBLISH
X-WR-CALNAME:Club Qualité 35
X-ORIGINAL-URL:https://www.clubqualite35.fr
X-WR-CALDESC:Évènements pour Club Qualité 35
REFRESH-INTERVAL;VALUE=DURATION:PT1H
X-Robots-Tag:noindex
X-PUBLISHED-TTL:PT1H
BEGIN:VTIMEZONE
TZID:Europe/Paris
BEGIN:DAYLIGHT
TZOFFSETFROM:+0100
TZOFFSETTO:+0200
TZNAME:CEST
DTSTART:20210328T010000
END:DAYLIGHT
BEGIN:STANDARD
TZOFFSETFROM:+0200
TZOFFSETTO:+0100
TZNAME:CET
DTSTART:20211031T010000
END:STANDARD
BEGIN:DAYLIGHT
TZOFFSETFROM:+0100
TZOFFSETTO:+0200
TZNAME:CEST
DTSTART:20220327T010000
END:DAYLIGHT
BEGIN:STANDARD
TZOFFSETFROM:+0200
TZOFFSETTO:+0100
TZNAME:CET
DTSTART:20221030T010000
END:STANDARD
BEGIN:DAYLIGHT
TZOFFSETFROM:+0100
TZOFFSETTO:+0200
TZNAME:CEST
DTSTART:20230326T010000
END:DAYLIGHT
BEGIN:STANDARD
TZOFFSETFROM:+0200
TZOFFSETTO:+0100
TZNAME:CET
DTSTART:20231029T010000
END:STANDARD
END:VTIMEZONE
BEGIN:VEVENT
DTSTART;TZID=Europe/Paris:20221018T123000
DTEND;TZID=Europe/Paris:20221018T133000
DTSTAMP:20260422T091245
CREATED:20221006T140411Z
LAST-MODIFIED:20221006T140411Z
UID:4876-1666096200-1666099800@www.clubqualite35.fr
SUMMARY:Réunion commission "évolutions techniques et technologiques" (visio)
DESCRIPTION:
URL:https://www.clubqualite35.fr/evenement/reunion-commission-evolutions-techniques-et-technologiques-visio/
CATEGORIES:preparation-evenements
END:VEVENT
END:VCALENDAR