BEGIN:VCALENDAR
VERSION:2.0
PRODID:-//Club Qualité 35 - ECPv6.15.20//NONSGML v1.0//EN
CALSCALE:GREGORIAN
METHOD:PUBLISH
X-ORIGINAL-URL:https://www.clubqualite35.fr
X-WR-CALDESC:Évènements pour Club Qualité 35
REFRESH-INTERVAL;VALUE=DURATION:PT1H
X-Robots-Tag:noindex
X-PUBLISHED-TTL:PT1H
BEGIN:VTIMEZONE
TZID:Europe/Paris
BEGIN:DAYLIGHT
TZOFFSETFROM:+0100
TZOFFSETTO:+0200
TZNAME:CEST
DTSTART:20210328T010000
END:DAYLIGHT
BEGIN:STANDARD
TZOFFSETFROM:+0200
TZOFFSETTO:+0100
TZNAME:CET
DTSTART:20211031T010000
END:STANDARD
BEGIN:DAYLIGHT
TZOFFSETFROM:+0100
TZOFFSETTO:+0200
TZNAME:CEST
DTSTART:20220327T010000
END:DAYLIGHT
BEGIN:STANDARD
TZOFFSETFROM:+0200
TZOFFSETTO:+0100
TZNAME:CET
DTSTART:20221030T010000
END:STANDARD
BEGIN:DAYLIGHT
TZOFFSETFROM:+0100
TZOFFSETTO:+0200
TZNAME:CEST
DTSTART:20230326T010000
END:DAYLIGHT
BEGIN:STANDARD
TZOFFSETFROM:+0200
TZOFFSETTO:+0100
TZNAME:CET
DTSTART:20231029T010000
END:STANDARD
END:VTIMEZONE
BEGIN:VEVENT
DTSTART;TZID=Europe/Paris:20220913T120000
DTEND;TZID=Europe/Paris:20220913T130000
DTSTAMP:20260422T104305
CREATED:20220711T151054Z
LAST-MODIFIED:20220711T151054Z
UID:4848-1663070400-1663074000@www.clubqualite35.fr
SUMMARY:Réunion "commission écologie et environnement"
DESCRIPTION:
URL:https://www.clubqualite35.fr/evenement/reunion-commission-ecologie-et-environnement-12/
LOCATION:La Bamboche\, 2\, boulevard de la Liberté\, Rennes\, 35000\, France
CATEGORIES:preparation-evenements
END:VEVENT
END:VCALENDAR