BEGIN:VCALENDAR
VERSION:2.0
PRODID:-//Club Qualité 35 - ECPv6.15.20//NONSGML v1.0//EN
CALSCALE:GREGORIAN
METHOD:PUBLISH
X-WR-CALNAME:Club Qualité 35
X-ORIGINAL-URL:https://www.clubqualite35.fr
X-WR-CALDESC:Évènements pour Club Qualité 35
REFRESH-INTERVAL;VALUE=DURATION:PT1H
X-Robots-Tag:noindex
X-PUBLISHED-TTL:PT1H
BEGIN:VTIMEZONE
TZID:Europe/Paris
BEGIN:DAYLIGHT
TZOFFSETFROM:+0100
TZOFFSETTO:+0200
TZNAME:CEST
DTSTART:20220327T010000
END:DAYLIGHT
BEGIN:STANDARD
TZOFFSETFROM:+0200
TZOFFSETTO:+0100
TZNAME:CET
DTSTART:20221030T010000
END:STANDARD
BEGIN:DAYLIGHT
TZOFFSETFROM:+0100
TZOFFSETTO:+0200
TZNAME:CEST
DTSTART:20230326T010000
END:DAYLIGHT
BEGIN:STANDARD
TZOFFSETFROM:+0200
TZOFFSETTO:+0100
TZNAME:CET
DTSTART:20231029T010000
END:STANDARD
BEGIN:DAYLIGHT
TZOFFSETFROM:+0100
TZOFFSETTO:+0200
TZNAME:CEST
DTSTART:20240331T010000
END:DAYLIGHT
BEGIN:STANDARD
TZOFFSETFROM:+0200
TZOFFSETTO:+0100
TZNAME:CET
DTSTART:20241027T010000
END:STANDARD
END:VTIMEZONE
BEGIN:VEVENT
DTSTART;TZID=Europe/Paris:20230911T120000
DTEND;TZID=Europe/Paris:20230911T133000
DTSTAMP:20260421T171937
CREATED:20230725T140317Z
LAST-MODIFIED:20230725T140317Z
UID:5290-1694433600-1694439000@www.clubqualite35.fr
SUMMARY:Réunion commission "valorisation des métiers"
DESCRIPTION:
URL:https://www.clubqualite35.fr/evenement/reunion-commission-valorisation-des-metiers-6/
LOCATION:La Bamboche\, 2\, boulevard de la Liberté\, Rennes\, 35000\, France
CATEGORIES:preparation-evenements
END:VEVENT
BEGIN:VEVENT
DTSTART;TZID=Europe/Paris:20230912T120000
DTEND;TZID=Europe/Paris:20230912T133000
DTSTAMP:20260421T171937
CREATED:20230710T085108Z
LAST-MODIFIED:20230710T085108Z
UID:5273-1694520000-1694525400@www.clubqualite35.fr
SUMMARY:Commission "écologie et environnement"
DESCRIPTION:
URL:https://www.clubqualite35.fr/evenement/commission-ecologie-et-environnement/
LOCATION:La Bamboche\, 2\, boulevard de la Liberté\, Rennes\, 35000\, France
CATEGORIES:preparation-evenements
END:VEVENT
BEGIN:VEVENT
DTSTART;TZID=Europe/Paris:20230925T130000
DTEND;TZID=Europe/Paris:20230925T140000
DTSTAMP:20260421T171937
CREATED:20230828T120501Z
LAST-MODIFIED:20230828T120501Z
UID:5297-1695646800-1695650400@www.clubqualite35.fr
SUMMARY:Visio commission "évolutions techniques et technologiques"
DESCRIPTION:
URL:https://www.clubqualite35.fr/evenement/visio-commission-evolutions-techniques-et-technologiques-2/
CATEGORIES:preparation-evenements
END:VEVENT
END:VCALENDAR