BEGIN:VCALENDAR
VERSION:2.0
PRODID:-//Club Qualité 35 - ECPv6.15.20//NONSGML v1.0//EN
CALSCALE:GREGORIAN
METHOD:PUBLISH
X-ORIGINAL-URL:https://www.clubqualite35.fr
X-WR-CALDESC:Évènements pour Club Qualité 35
REFRESH-INTERVAL;VALUE=DURATION:PT1H
X-Robots-Tag:noindex
X-PUBLISHED-TTL:PT1H
BEGIN:VTIMEZONE
TZID:Europe/Paris
BEGIN:DAYLIGHT
TZOFFSETFROM:+0100
TZOFFSETTO:+0200
TZNAME:CEST
DTSTART:20220327T010000
END:DAYLIGHT
BEGIN:STANDARD
TZOFFSETFROM:+0200
TZOFFSETTO:+0100
TZNAME:CET
DTSTART:20221030T010000
END:STANDARD
BEGIN:DAYLIGHT
TZOFFSETFROM:+0100
TZOFFSETTO:+0200
TZNAME:CEST
DTSTART:20230326T010000
END:DAYLIGHT
BEGIN:STANDARD
TZOFFSETFROM:+0200
TZOFFSETTO:+0100
TZNAME:CET
DTSTART:20231029T010000
END:STANDARD
BEGIN:DAYLIGHT
TZOFFSETFROM:+0100
TZOFFSETTO:+0200
TZNAME:CEST
DTSTART:20240331T010000
END:DAYLIGHT
BEGIN:STANDARD
TZOFFSETFROM:+0200
TZOFFSETTO:+0100
TZNAME:CET
DTSTART:20241027T010000
END:STANDARD
END:VTIMEZONE
BEGIN:VEVENT
DTSTART;TZID=Europe/Paris:20230704T130000
DTEND;TZID=Europe/Paris:20230704T140000
DTSTAMP:20260421T200141
CREATED:20230620T135410Z
LAST-MODIFIED:20230620T135410Z
UID:5244-1688475600-1688479200@www.clubqualite35.fr
SUMMARY:Visio commission "évolutions techniques et technologiques"
DESCRIPTION:
URL:https://www.clubqualite35.fr/evenement/visio-commission-evolutions-techniques-et-technologiques/
CATEGORIES:preparation-evenements
END:VEVENT
BEGIN:VEVENT
DTSTART;TZID=Europe/Paris:20230726T123000
DTEND;TZID=Europe/Paris:20230726T140000
DTSTAMP:20260421T200141
CREATED:20230525T142650Z
LAST-MODIFIED:20230525T142656Z
UID:5223-1690374600-1690380000@www.clubqualite35.fr
SUMMARY:Réunion collège "entreprises"
DESCRIPTION:Préparation de la prochaine Présidence du Club (2024-2026).
URL:https://www.clubqualite35.fr/evenement/reunion-college-entreprises-6/
LOCATION:La Bamboche\, 2\, boulevard de la Liberté\, Rennes\, 35000\, France
CATEGORIES:preparation-evenements
END:VEVENT
END:VCALENDAR