BEGIN:VCALENDAR
VERSION:2.0
PRODID:-//Club Qualité 35 - ECPv6.15.20//NONSGML v1.0//EN
CALSCALE:GREGORIAN
METHOD:PUBLISH
X-WR-CALNAME:Club Qualité 35
X-ORIGINAL-URL:https://www.clubqualite35.fr
X-WR-CALDESC:Évènements pour Club Qualité 35
REFRESH-INTERVAL;VALUE=DURATION:PT1H
X-Robots-Tag:noindex
X-PUBLISHED-TTL:PT1H
BEGIN:VTIMEZONE
TZID:Europe/Paris
BEGIN:DAYLIGHT
TZOFFSETFROM:+0100
TZOFFSETTO:+0200
TZNAME:CEST
DTSTART:20220327T010000
END:DAYLIGHT
BEGIN:STANDARD
TZOFFSETFROM:+0200
TZOFFSETTO:+0100
TZNAME:CET
DTSTART:20221030T010000
END:STANDARD
BEGIN:DAYLIGHT
TZOFFSETFROM:+0100
TZOFFSETTO:+0200
TZNAME:CEST
DTSTART:20230326T010000
END:DAYLIGHT
BEGIN:STANDARD
TZOFFSETFROM:+0200
TZOFFSETTO:+0100
TZNAME:CET
DTSTART:20231029T010000
END:STANDARD
BEGIN:DAYLIGHT
TZOFFSETFROM:+0100
TZOFFSETTO:+0200
TZNAME:CEST
DTSTART:20240331T010000
END:DAYLIGHT
BEGIN:STANDARD
TZOFFSETFROM:+0200
TZOFFSETTO:+0100
TZNAME:CET
DTSTART:20241027T010000
END:STANDARD
END:VTIMEZONE
BEGIN:VEVENT
DTSTART;TZID=Europe/Paris:20230418T120000
DTEND;TZID=Europe/Paris:20230418T133000
DTSTAMP:20260422T000937
CREATED:20230404T122810Z
LAST-MODIFIED:20230404T122810Z
UID:5144-1681819200-1681824600@www.clubqualite35.fr
SUMMARY:Réunion commission "valorisation des métiers"
DESCRIPTION:
URL:https://www.clubqualite35.fr/evenement/reunion-commission-valorisation-des-metiers-5/
LOCATION:La Bamboche\, 2\, boulevard de la Liberté\, Rennes\, 35000\, France
CATEGORIES:preparation-evenements
END:VEVENT
BEGIN:VEVENT
DTSTART;TZID=Europe/Paris:20230426T123000
DTEND;TZID=Europe/Paris:20230426T133000
DTSTAMP:20260422T000937
CREATED:20230403T143312Z
LAST-MODIFIED:20230403T143336Z
UID:5139-1682512200-1682515800@www.clubqualite35.fr
SUMMARY:Visio commission "évolutions techniques et technologiques"
DESCRIPTION:
URL:https://www.clubqualite35.fr/evenement/vision-commission-evolutions-techniques-et-technologiques-2/
CATEGORIES:preparation-evenements
END:VEVENT
END:VCALENDAR